BEGIN:VCALENDAR
VERSION:2.0
PRODID:-//Toronto Jewish Disability Network - ECPv6.0.13//NONSGML v1.0//EN
CALSCALE:GREGORIAN
METHOD:PUBLISH
X-WR-CALNAME:Toronto Jewish Disability Network
X-ORIGINAL-URL:https://torontojdn.org
X-WR-CALDESC:Events for Toronto Jewish Disability Network
REFRESH-INTERVAL;VALUE=DURATION:PT1H
X-Robots-Tag:noindex
X-PUBLISHED-TTL:PT1H
BEGIN:VTIMEZONE
TZID:America/Toronto
BEGIN:DAYLIGHT
TZOFFSETFROM:-0500
TZOFFSETTO:-0400
TZNAME:EDT
DTSTART:20260308T070000
END:DAYLIGHT
BEGIN:STANDARD
TZOFFSETFROM:-0400
TZOFFSETTO:-0500
TZNAME:EST
DTSTART:20261101T060000
END:STANDARD
END:VTIMEZONE
BEGIN:VEVENT
DTSTART;TZID=America/Toronto:20261204T000000
DTEND;TZID=America/Toronto:20261204T235959
DTSTAMP:20260424T191033
CREATED:20230510T153019Z
LAST-MODIFIED:20230510T153533Z
UID:10000204-1796342400-1796428799@torontojdn.org
SUMMARY:Pre-order your challah (COR) today!
DESCRIPTION:Do a double mitzvah\, support the accessibility of individuals with special needs. Order through SRC or Prosserman JCC. \n\n\n\nPre-order Challahs PJCC \n\n\n\nPre-order Challahs SRC
URL:https://torontojdn.org/event/pre-order-your-challah-cor-today-2/2026-12-04/
CATEGORIES:Reminder
END:VEVENT
BEGIN:VEVENT
DTSTART;TZID=America/Toronto:20261211T000000
DTEND;TZID=America/Toronto:20261211T235959
DTSTAMP:20260424T191033
CREATED:20230510T153019Z
LAST-MODIFIED:20230510T153533Z
UID:10000205-1796947200-1797033599@torontojdn.org
SUMMARY:Pre-order your challah (COR) today!
DESCRIPTION:Do a double mitzvah\, support the accessibility of individuals with special needs. Order through SRC or Prosserman JCC. \n\n\n\nPre-order Challahs PJCC \n\n\n\nPre-order Challahs SRC
URL:https://torontojdn.org/event/pre-order-your-challah-cor-today-2/2026-12-11/
CATEGORIES:Reminder
END:VEVENT
BEGIN:VEVENT
DTSTART;TZID=America/Toronto:20261218T000000
DTEND;TZID=America/Toronto:20261218T235959
DTSTAMP:20260424T191033
CREATED:20230510T153019Z
LAST-MODIFIED:20230510T153533Z
UID:10000206-1797552000-1797638399@torontojdn.org
SUMMARY:Pre-order your challah (COR) today!
DESCRIPTION:Do a double mitzvah\, support the accessibility of individuals with special needs. Order through SRC or Prosserman JCC. \n\n\n\nPre-order Challahs PJCC \n\n\n\nPre-order Challahs SRC
URL:https://torontojdn.org/event/pre-order-your-challah-cor-today-2/2026-12-18/
CATEGORIES:Reminder
END:VEVENT
BEGIN:VEVENT
DTSTART;TZID=America/Toronto:20261225T000000
DTEND;TZID=America/Toronto:20261225T235959
DTSTAMP:20260424T191033
CREATED:20230510T153019Z
LAST-MODIFIED:20230510T153533Z
UID:10000207-1798156800-1798243199@torontojdn.org
SUMMARY:Pre-order your challah (COR) today!
DESCRIPTION:Do a double mitzvah\, support the accessibility of individuals with special needs. Order through SRC or Prosserman JCC. \n\n\n\nPre-order Challahs PJCC \n\n\n\nPre-order Challahs SRC
URL:https://torontojdn.org/event/pre-order-your-challah-cor-today-2/2026-12-25/
CATEGORIES:Reminder
END:VEVENT
END:VCALENDAR