BEGIN:VCALENDAR
VERSION:2.0
PRODID:-//Toronto Jewish Disability Network - ECPv6.0.13//NONSGML v1.0//EN
CALSCALE:GREGORIAN
METHOD:PUBLISH
X-WR-CALNAME:Toronto Jewish Disability Network
X-ORIGINAL-URL:https://torontojdn.org
X-WR-CALDESC:Events for Toronto Jewish Disability Network
REFRESH-INTERVAL;VALUE=DURATION:PT1H
X-Robots-Tag:noindex
X-PUBLISHED-TTL:PT1H
BEGIN:VTIMEZONE
TZID:America/Toronto
BEGIN:DAYLIGHT
TZOFFSETFROM:-0500
TZOFFSETTO:-0400
TZNAME:EDT
DTSTART:20260308T070000
END:DAYLIGHT
BEGIN:STANDARD
TZOFFSETFROM:-0400
TZOFFSETTO:-0500
TZNAME:EST
DTSTART:20261101T060000
END:STANDARD
END:VTIMEZONE
BEGIN:VEVENT
DTSTART;TZID=America/Toronto:20260703T000000
DTEND;TZID=America/Toronto:20260703T235959
DTSTAMP:20260424T121500
CREATED:20230510T153019Z
LAST-MODIFIED:20230510T153533Z
UID:10000182-1783036800-1783123199@torontojdn.org
SUMMARY:Pre-order your challah (COR) today!
DESCRIPTION:Do a double mitzvah\, support the accessibility of individuals with special needs. Order through SRC or Prosserman JCC. \n\n\n\nPre-order Challahs PJCC \n\n\n\nPre-order Challahs SRC
URL:https://torontojdn.org/event/pre-order-your-challah-cor-today-2/2026-07-03/
CATEGORIES:Reminder
END:VEVENT
BEGIN:VEVENT
DTSTART;TZID=America/Toronto:20260710T000000
DTEND;TZID=America/Toronto:20260710T235959
DTSTAMP:20260424T121500
CREATED:20230510T153019Z
LAST-MODIFIED:20230510T153533Z
UID:10000183-1783641600-1783727999@torontojdn.org
SUMMARY:Pre-order your challah (COR) today!
DESCRIPTION:Do a double mitzvah\, support the accessibility of individuals with special needs. Order through SRC or Prosserman JCC. \n\n\n\nPre-order Challahs PJCC \n\n\n\nPre-order Challahs SRC
URL:https://torontojdn.org/event/pre-order-your-challah-cor-today-2/2026-07-10/
CATEGORIES:Reminder
END:VEVENT
BEGIN:VEVENT
DTSTART;TZID=America/Toronto:20260717T000000
DTEND;TZID=America/Toronto:20260717T235959
DTSTAMP:20260424T121500
CREATED:20230510T153019Z
LAST-MODIFIED:20230510T153533Z
UID:10000184-1784246400-1784332799@torontojdn.org
SUMMARY:Pre-order your challah (COR) today!
DESCRIPTION:Do a double mitzvah\, support the accessibility of individuals with special needs. Order through SRC or Prosserman JCC. \n\n\n\nPre-order Challahs PJCC \n\n\n\nPre-order Challahs SRC
URL:https://torontojdn.org/event/pre-order-your-challah-cor-today-2/2026-07-17/
CATEGORIES:Reminder
END:VEVENT
BEGIN:VEVENT
DTSTART;TZID=America/Toronto:20260724T000000
DTEND;TZID=America/Toronto:20260724T235959
DTSTAMP:20260424T121500
CREATED:20230510T153019Z
LAST-MODIFIED:20230510T153533Z
UID:10000185-1784851200-1784937599@torontojdn.org
SUMMARY:Pre-order your challah (COR) today!
DESCRIPTION:Do a double mitzvah\, support the accessibility of individuals with special needs. Order through SRC or Prosserman JCC. \n\n\n\nPre-order Challahs PJCC \n\n\n\nPre-order Challahs SRC
URL:https://torontojdn.org/event/pre-order-your-challah-cor-today-2/2026-07-24/
CATEGORIES:Reminder
END:VEVENT
BEGIN:VEVENT
DTSTART;TZID=America/Toronto:20260731T000000
DTEND;TZID=America/Toronto:20260731T235959
DTSTAMP:20260424T121500
CREATED:20230510T153019Z
LAST-MODIFIED:20230510T153533Z
UID:10000186-1785456000-1785542399@torontojdn.org
SUMMARY:Pre-order your challah (COR) today!
DESCRIPTION:Do a double mitzvah\, support the accessibility of individuals with special needs. Order through SRC or Prosserman JCC. \n\n\n\nPre-order Challahs PJCC \n\n\n\nPre-order Challahs SRC
URL:https://torontojdn.org/event/pre-order-your-challah-cor-today-2/2026-07-31/
CATEGORIES:Reminder
END:VEVENT
END:VCALENDAR