BEGIN:VCALENDAR
VERSION:2.0
PRODID:-//Toronto Jewish Disability Network - ECPv6.0.13//NONSGML v1.0//EN
CALSCALE:GREGORIAN
METHOD:PUBLISH
X-ORIGINAL-URL:https://torontojdn.org
X-WR-CALDESC:Events for Toronto Jewish Disability Network
REFRESH-INTERVAL;VALUE=DURATION:PT1H
X-Robots-Tag:noindex
X-PUBLISHED-TTL:PT1H
BEGIN:VTIMEZONE
TZID:America/Toronto
BEGIN:DAYLIGHT
TZOFFSETFROM:-0500
TZOFFSETTO:-0400
TZNAME:EDT
DTSTART:20240310T070000
END:DAYLIGHT
BEGIN:STANDARD
TZOFFSETFROM:-0400
TZOFFSETTO:-0500
TZNAME:EST
DTSTART:20241103T060000
END:STANDARD
END:VTIMEZONE
BEGIN:VEVENT
DTSTART;TZID=America/Toronto:20240503T000000
DTEND;TZID=America/Toronto:20240503T235959
DTSTAMP:20260424T220945
CREATED:20230510T153019Z
LAST-MODIFIED:20230510T153533Z
UID:10000069-1714694400-1714780799@torontojdn.org
SUMMARY:Pre-order your challah (COR) today!
DESCRIPTION:Do a double mitzvah\, support the accessibility of individuals with special needs. Order through SRC or Prosserman JCC. \n\n\n\nPre-order Challahs PJCC \n\n\n\nPre-order Challahs SRC
URL:https://torontojdn.org/event/pre-order-your-challah-cor-today-2/2024-05-03/
CATEGORIES:Reminder
END:VEVENT
BEGIN:VEVENT
DTSTART;TZID=America/Toronto:20240510T000000
DTEND;TZID=America/Toronto:20240510T235959
DTSTAMP:20260424T220945
CREATED:20230510T153019Z
LAST-MODIFIED:20230510T153533Z
UID:10000070-1715299200-1715385599@torontojdn.org
SUMMARY:Pre-order your challah (COR) today!
DESCRIPTION:Do a double mitzvah\, support the accessibility of individuals with special needs. Order through SRC or Prosserman JCC. \n\n\n\nPre-order Challahs PJCC \n\n\n\nPre-order Challahs SRC
URL:https://torontojdn.org/event/pre-order-your-challah-cor-today-2/2024-05-10/
CATEGORIES:Reminder
END:VEVENT
BEGIN:VEVENT
DTSTART;TZID=America/Toronto:20240517T000000
DTEND;TZID=America/Toronto:20240517T235959
DTSTAMP:20260424T220945
CREATED:20230510T153019Z
LAST-MODIFIED:20230510T153533Z
UID:10000071-1715904000-1715990399@torontojdn.org
SUMMARY:Pre-order your challah (COR) today!
DESCRIPTION:Do a double mitzvah\, support the accessibility of individuals with special needs. Order through SRC or Prosserman JCC. \n\n\n\nPre-order Challahs PJCC \n\n\n\nPre-order Challahs SRC
URL:https://torontojdn.org/event/pre-order-your-challah-cor-today-2/2024-05-17/
CATEGORIES:Reminder
END:VEVENT
BEGIN:VEVENT
DTSTART;TZID=America/Toronto:20240524T000000
DTEND;TZID=America/Toronto:20240524T235959
DTSTAMP:20260424T220945
CREATED:20230510T153019Z
LAST-MODIFIED:20230510T153533Z
UID:10000072-1716508800-1716595199@torontojdn.org
SUMMARY:Pre-order your challah (COR) today!
DESCRIPTION:Do a double mitzvah\, support the accessibility of individuals with special needs. Order through SRC or Prosserman JCC. \n\n\n\nPre-order Challahs PJCC \n\n\n\nPre-order Challahs SRC
URL:https://torontojdn.org/event/pre-order-your-challah-cor-today-2/2024-05-24/
CATEGORIES:Reminder
END:VEVENT
BEGIN:VEVENT
DTSTART;TZID=America/Toronto:20240531T000000
DTEND;TZID=America/Toronto:20240531T235959
DTSTAMP:20260424T220945
CREATED:20230510T153019Z
LAST-MODIFIED:20230510T153533Z
UID:10000073-1717113600-1717199999@torontojdn.org
SUMMARY:Pre-order your challah (COR) today!
DESCRIPTION:Do a double mitzvah\, support the accessibility of individuals with special needs. Order through SRC or Prosserman JCC. \n\n\n\nPre-order Challahs PJCC \n\n\n\nPre-order Challahs SRC
URL:https://torontojdn.org/event/pre-order-your-challah-cor-today-2/2024-05-31/
CATEGORIES:Reminder
END:VEVENT
END:VCALENDAR