BEGIN:VCALENDAR
VERSION:2.0
PRODID:-//Toronto Jewish Disability Network - ECPv6.0.13//NONSGML v1.0//EN
CALSCALE:GREGORIAN
METHOD:PUBLISH
X-WR-CALNAME:Toronto Jewish Disability Network
X-ORIGINAL-URL:https://torontojdn.org
X-WR-CALDESC:Events for Toronto Jewish Disability Network
REFRESH-INTERVAL;VALUE=DURATION:PT1H
X-Robots-Tag:noindex
X-PUBLISHED-TTL:PT1H
BEGIN:VTIMEZONE
TZID:America/Toronto
BEGIN:DAYLIGHT
TZOFFSETFROM:-0500
TZOFFSETTO:-0400
TZNAME:EDT
DTSTART:20240310T070000
END:DAYLIGHT
BEGIN:STANDARD
TZOFFSETFROM:-0400
TZOFFSETTO:-0500
TZNAME:EST
DTSTART:20241103T060000
END:STANDARD
END:VTIMEZONE
BEGIN:VEVENT
DTSTART;TZID=America/Toronto:20240301T000000
DTEND;TZID=America/Toronto:20240301T235959
DTSTAMP:20260424T235147
CREATED:20230510T153019Z
LAST-MODIFIED:20230510T153533Z
UID:10000060-1709251200-1709337599@torontojdn.org
SUMMARY:Pre-order your challah (COR) today!
DESCRIPTION:Do a double mitzvah\, support the accessibility of individuals with special needs. Order through SRC or Prosserman JCC. \n\n\n\nPre-order Challahs PJCC \n\n\n\nPre-order Challahs SRC
URL:https://torontojdn.org/event/pre-order-your-challah-cor-today-2/2024-03-01/
CATEGORIES:Reminder
END:VEVENT
BEGIN:VEVENT
DTSTART;TZID=America/Toronto:20240308T000000
DTEND;TZID=America/Toronto:20240308T235959
DTSTAMP:20260424T235147
CREATED:20230510T153019Z
LAST-MODIFIED:20230510T153533Z
UID:10000061-1709856000-1709942399@torontojdn.org
SUMMARY:Pre-order your challah (COR) today!
DESCRIPTION:Do a double mitzvah\, support the accessibility of individuals with special needs. Order through SRC or Prosserman JCC. \n\n\n\nPre-order Challahs PJCC \n\n\n\nPre-order Challahs SRC
URL:https://torontojdn.org/event/pre-order-your-challah-cor-today-2/2024-03-08/
CATEGORIES:Reminder
END:VEVENT
BEGIN:VEVENT
DTSTART;TZID=America/Toronto:20240315T000000
DTEND;TZID=America/Toronto:20240315T235959
DTSTAMP:20260424T235147
CREATED:20230510T153019Z
LAST-MODIFIED:20230510T153533Z
UID:10000062-1710460800-1710547199@torontojdn.org
SUMMARY:Pre-order your challah (COR) today!
DESCRIPTION:Do a double mitzvah\, support the accessibility of individuals with special needs. Order through SRC or Prosserman JCC. \n\n\n\nPre-order Challahs PJCC \n\n\n\nPre-order Challahs SRC
URL:https://torontojdn.org/event/pre-order-your-challah-cor-today-2/2024-03-15/
CATEGORIES:Reminder
END:VEVENT
BEGIN:VEVENT
DTSTART;TZID=America/Toronto:20240322T000000
DTEND;TZID=America/Toronto:20240322T235959
DTSTAMP:20260424T235147
CREATED:20230510T153019Z
LAST-MODIFIED:20230510T153533Z
UID:10000063-1711065600-1711151999@torontojdn.org
SUMMARY:Pre-order your challah (COR) today!
DESCRIPTION:Do a double mitzvah\, support the accessibility of individuals with special needs. Order through SRC or Prosserman JCC. \n\n\n\nPre-order Challahs PJCC \n\n\n\nPre-order Challahs SRC
URL:https://torontojdn.org/event/pre-order-your-challah-cor-today-2/2024-03-22/
CATEGORIES:Reminder
END:VEVENT
BEGIN:VEVENT
DTSTART;TZID=America/Toronto:20240329T000000
DTEND;TZID=America/Toronto:20240329T235959
DTSTAMP:20260424T235147
CREATED:20230510T153019Z
LAST-MODIFIED:20230510T153533Z
UID:10000064-1711670400-1711756799@torontojdn.org
SUMMARY:Pre-order your challah (COR) today!
DESCRIPTION:Do a double mitzvah\, support the accessibility of individuals with special needs. Order through SRC or Prosserman JCC. \n\n\n\nPre-order Challahs PJCC \n\n\n\nPre-order Challahs SRC
URL:https://torontojdn.org/event/pre-order-your-challah-cor-today-2/2024-03-29/
CATEGORIES:Reminder
END:VEVENT
END:VCALENDAR