BEGIN:VCALENDAR
VERSION:2.0
PRODID:-//Toronto Jewish Disability Network - ECPv6.0.13//NONSGML v1.0//EN
CALSCALE:GREGORIAN
METHOD:PUBLISH
X-ORIGINAL-URL:https://torontojdn.org
X-WR-CALDESC:Events for Toronto Jewish Disability Network
REFRESH-INTERVAL;VALUE=DURATION:PT1H
X-Robots-Tag:noindex
X-PUBLISHED-TTL:PT1H
BEGIN:VTIMEZONE
TZID:America/Toronto
BEGIN:DAYLIGHT
TZOFFSETFROM:-0500
TZOFFSETTO:-0400
TZNAME:EDT
DTSTART:20230312T070000
END:DAYLIGHT
BEGIN:STANDARD
TZOFFSETFROM:-0400
TZOFFSETTO:-0500
TZNAME:EST
DTSTART:20231105T060000
END:STANDARD
END:VTIMEZONE
BEGIN:VEVENT
DTSTART;TZID=America/Toronto:20230602T000000
DTEND;TZID=America/Toronto:20230602T235959
DTSTAMP:20260425T131931
CREATED:20230510T153019Z
LAST-MODIFIED:20230510T153533Z
UID:10000021-1685664000-1685750399@torontojdn.org
SUMMARY:Pre-order your challah (COR) today!
DESCRIPTION:Do a double mitzvah\, support the accessibility of individuals with special needs. Order through SRC or Prosserman JCC. \n\n\n\nPre-order Challahs PJCC \n\n\n\nPre-order Challahs SRC
URL:https://torontojdn.org/event/pre-order-your-challah-cor-today-2/2023-06-02/
CATEGORIES:Reminder
END:VEVENT
BEGIN:VEVENT
DTSTART;TZID=America/Toronto:20230605T200000
DTEND;TZID=America/Toronto:20230605T210000
DTSTAMP:20260425T131931
CREATED:20230510T162620Z
LAST-MODIFIED:20230510T162700Z
UID:10000279-1685995200-1685998800@torontojdn.org
SUMMARY:An Evening in Support of Yachad Toronto
DESCRIPTION:With world renowned mentalist\, Haim Goldberg
URL:https://torontojdn.org/event/an-evening-in-support-of-yachad-toronto/
CATEGORIES:All Events
END:VEVENT
BEGIN:VEVENT
DTSTART;TZID=America/Toronto:20230609T000000
DTEND;TZID=America/Toronto:20230609T235959
DTSTAMP:20260425T131931
CREATED:20230510T153019Z
LAST-MODIFIED:20230510T153533Z
UID:10000022-1686268800-1686355199@torontojdn.org
SUMMARY:Pre-order your challah (COR) today!
DESCRIPTION:Do a double mitzvah\, support the accessibility of individuals with special needs. Order through SRC or Prosserman JCC. \n\n\n\nPre-order Challahs PJCC \n\n\n\nPre-order Challahs SRC
URL:https://torontojdn.org/event/pre-order-your-challah-cor-today-2/2023-06-09/
CATEGORIES:Reminder
END:VEVENT
BEGIN:VEVENT
DTSTART;TZID=America/Toronto:20230616T000000
DTEND;TZID=America/Toronto:20230616T235959
DTSTAMP:20260425T131931
CREATED:20230510T153019Z
LAST-MODIFIED:20230510T153533Z
UID:10000023-1686873600-1686959999@torontojdn.org
SUMMARY:Pre-order your challah (COR) today!
DESCRIPTION:Do a double mitzvah\, support the accessibility of individuals with special needs. Order through SRC or Prosserman JCC. \n\n\n\nPre-order Challahs PJCC \n\n\n\nPre-order Challahs SRC
URL:https://torontojdn.org/event/pre-order-your-challah-cor-today-2/2023-06-16/
CATEGORIES:Reminder
END:VEVENT
BEGIN:VEVENT
DTSTART;TZID=America/Toronto:20230623T000000
DTEND;TZID=America/Toronto:20230623T235959
DTSTAMP:20260425T131931
CREATED:20230510T153019Z
LAST-MODIFIED:20230510T153533Z
UID:10000024-1687478400-1687564799@torontojdn.org
SUMMARY:Pre-order your challah (COR) today!
DESCRIPTION:Do a double mitzvah\, support the accessibility of individuals with special needs. Order through SRC or Prosserman JCC. \n\n\n\nPre-order Challahs PJCC \n\n\n\nPre-order Challahs SRC
URL:https://torontojdn.org/event/pre-order-your-challah-cor-today-2/2023-06-23/
CATEGORIES:Reminder
END:VEVENT
BEGIN:VEVENT
DTSTART;TZID=America/Toronto:20230630T000000
DTEND;TZID=America/Toronto:20230630T235959
DTSTAMP:20260425T131931
CREATED:20230510T153019Z
LAST-MODIFIED:20230510T153533Z
UID:10000025-1688083200-1688169599@torontojdn.org
SUMMARY:Pre-order your challah (COR) today!
DESCRIPTION:Do a double mitzvah\, support the accessibility of individuals with special needs. Order through SRC or Prosserman JCC. \n\n\n\nPre-order Challahs PJCC \n\n\n\nPre-order Challahs SRC
URL:https://torontojdn.org/event/pre-order-your-challah-cor-today-2/2023-06-30/
CATEGORIES:Reminder
END:VEVENT
END:VCALENDAR