BEGIN:VCALENDAR
VERSION:2.0
PRODID:-//Toronto Jewish Disability Network - ECPv6.0.13//NONSGML v1.0//EN
CALSCALE:GREGORIAN
METHOD:PUBLISH
X-ORIGINAL-URL:https://torontojdn.org
X-WR-CALDESC:Events for Toronto Jewish Disability Network
REFRESH-INTERVAL;VALUE=DURATION:PT1H
X-Robots-Tag:noindex
X-PUBLISHED-TTL:PT1H
BEGIN:VTIMEZONE
TZID:America/Toronto
BEGIN:DAYLIGHT
TZOFFSETFROM:-0500
TZOFFSETTO:-0400
TZNAME:EDT
DTSTART:20230312T070000
END:DAYLIGHT
BEGIN:STANDARD
TZOFFSETFROM:-0400
TZOFFSETTO:-0500
TZNAME:EST
DTSTART:20231105T060000
END:STANDARD
END:VTIMEZONE
BEGIN:VEVENT
DTSTART;TZID=America/Toronto:20230827T110000
DTEND;TZID=America/Toronto:20230827T160000
DTSTAMP:20260425T101121
CREATED:20230713T014901Z
LAST-MODIFIED:20230713T014902Z
UID:10000283-1693134000-1693152000@torontojdn.org
SUMMARY:Reena Fun Day
DESCRIPTION:Fun activities\, food\, entertainment and more
URL:https://torontojdn.org/event/reena-fun-day/
END:VEVENT
BEGIN:VEVENT
DTSTART;TZID=America/Toronto:20230827T110000
DTEND;TZID=America/Toronto:20230827T160000
DTSTAMP:20260425T101121
CREATED:20230713T021908Z
LAST-MODIFIED:20230713T021909Z
UID:10000285-1693134000-1693152000@torontojdn.org
SUMMARY:Disability Artisan Market
DESCRIPTION:Arts & crafts crated by local artists with disabilities.
URL:https://torontojdn.org/event/disability-artisan-market/
END:VEVENT
END:VCALENDAR