BEGIN:VCALENDAR
VERSION:2.0
PRODID:-//Toronto Jewish Disability Network - ECPv6.0.13//NONSGML v1.0//EN
CALSCALE:GREGORIAN
METHOD:PUBLISH
X-WR-CALNAME:Toronto Jewish Disability Network
X-ORIGINAL-URL:https://torontojdn.org
X-WR-CALDESC:Events for Toronto Jewish Disability Network
REFRESH-INTERVAL;VALUE=DURATION:PT1H
X-Robots-Tag:noindex
X-PUBLISHED-TTL:PT1H
BEGIN:VTIMEZONE
TZID:America/Toronto
BEGIN:DAYLIGHT
TZOFFSETFROM:-0500
TZOFFSETTO:-0400
TZNAME:EDT
DTSTART:20230312T070000
END:DAYLIGHT
BEGIN:STANDARD
TZOFFSETFROM:-0400
TZOFFSETTO:-0500
TZNAME:EST
DTSTART:20231105T060000
END:STANDARD
END:VTIMEZONE
BEGIN:VEVENT
DTSTART;TZID=America/Toronto:20230820T090000
DTEND;TZID=America/Toronto:20230820T140000
DTSTAMP:20260425T115335
CREATED:20230713T015657Z
LAST-MODIFIED:20230713T015659Z
UID:10000284-1692522000-1692540000@torontojdn.org
SUMMARY:Dash for Kids
DESCRIPTION:All Inclusive Family Fun Run
URL:https://torontojdn.org/event/dash-for-kids/
LOCATION:Prosserman JCC
END:VEVENT
END:VCALENDAR